BEGIN:VCALENDAR
VERSION:2.0
PRODID:-//wp-events-plugin.com//7.2.3.1//EN
BEGIN:VEVENT
UID:40@dvcrebelle.nl
DTSTART;TZID=Europe/Amsterdam;VALUE=DATE:20260703
DTEND;TZID=Europe/Amsterdam;VALUE=DATE:20260706
DTSTAMP:20251110T103505Z
URL:https://dvcrebelle.nl/events/jeugdkamp/
SUMMARY:Jeugdkamp
DESCRIPTION:
ATTACH;FMTTYPE=image/jpeg:https://dvcrebelle.nl/wp-content/uploads/2025/11
 /jpeg-6.png
CATEGORIES:Activiteit
END:VEVENT
BEGIN:VTIMEZONE
TZID:Europe/Amsterdam
X-LIC-LOCATION:Europe/Amsterdam
BEGIN:DAYLIGHT
DTSTART:20260329T030000
TZOFFSETFROM:+0100
TZOFFSETTO:+0200
TZNAME:CEST
END:DAYLIGHT
END:VTIMEZONE
END:VCALENDAR